BEGIN:VCALENDAR
VERSION:2.0
PRODID:icalendar-ruby
CALSCALE:GREGORIAN
METHOD:PUBLISH
BEGIN:VEVENT
DTSTAMP:20260425T115811Z
UID:58-1117136@roundhillbaptist.com
DTSTART;VALUE=DATE:20260622
DTEND;VALUE=DATE:20260626
CLASS:PUBLIC
CREATED:20260415T125941
DESCRIPTION:
LAST-MODIFIED:20260415T125941
LOCATION:Virginia Beach\, VA
SUMMARY:FUGE CAMPS
URL;VALUE=URI:https://www.roundhillbaptist.com/events/fuge-camps/2026-06-22
ATTACH;FILENAME=Youth-Summer-Camp.jpg;FMTTYPE=image/jpeg:https://dq5pwpg1q8
 ru0.cloudfront.net/2026/04/15/16/59/41/03e362f5-04b4-4e68-9e05-f767c2de4d0
 b/Youth-Summer-Camp.jpg
END:VEVENT
END:VCALENDAR
